BEGIN:VCALENDAR
VERSION:2.0
PRODID:-//High School for Climate Justice - ECPv6.15.17.1//NONSGML v1.0//EN
CALSCALE:GREGORIAN
METHOD:PUBLISH
X-WR-CALNAME:High School for Climate Justice
X-ORIGINAL-URL:https://climatejustice.nyc
X-WR-CALDESC:Events for High School for Climate Justice
REFRESH-INTERVAL;VALUE=DURATION:PT1H
X-Robots-Tag:noindex
X-PUBLISHED-TTL:PT1H
BEGIN:VTIMEZONE
TZID:America/New_York
BEGIN:DAYLIGHT
TZOFFSETFROM:-0500
TZOFFSETTO:-0400
TZNAME:EDT
DTSTART:20250309T070000
END:DAYLIGHT
BEGIN:STANDARD
TZOFFSETFROM:-0400
TZOFFSETTO:-0500
TZNAME:EST
DTSTART:20251102T060000
END:STANDARD
BEGIN:DAYLIGHT
TZOFFSETFROM:-0500
TZOFFSETTO:-0400
TZNAME:EDT
DTSTART:20260308T070000
END:DAYLIGHT
BEGIN:STANDARD
TZOFFSETFROM:-0400
TZOFFSETTO:-0500
TZNAME:EST
DTSTART:20261101T060000
END:STANDARD
BEGIN:DAYLIGHT
TZOFFSETFROM:-0500
TZOFFSETTO:-0400
TZNAME:EDT
DTSTART:20270314T070000
END:DAYLIGHT
BEGIN:STANDARD
TZOFFSETFROM:-0400
TZOFFSETTO:-0500
TZNAME:EST
DTSTART:20271107T060000
END:STANDARD
END:VTIMEZONE
BEGIN:VEVENT
DTSTART;VALUE=DATE:20260422
DTEND;VALUE=DATE:20260423
DTSTAMP:20260422T022512
CREATED:20260420T164602Z
LAST-MODIFIED:20260420T164618Z
UID:10000253-1776816000-1776902399@climatejustice.nyc
SUMMARY:NYC Climate Action Day: Health\, Wellness & Greenspace
DESCRIPTION:
URL:https://climatejustice.nyc/calendar/nyc-climate-action-day-health-wellness-greenspace/
LOCATION:High School for Climate Justice\, 320 E. 96th Street\, New York\, NY\, 10128\, United States
CATEGORIES:Special Event
ORGANIZER;CN="School Management":MAILTO:info@climatejustice.nyc
GEO:40.7832167;-73.9460393
X-APPLE-STRUCTURED-LOCATION;VALUE=URI;X-ADDRESS=High School for Climate Justice 320 E. 96th Street New York NY 10128 United States;X-APPLE-RADIUS=500;X-TITLE=320 E. 96th Street:geo:-73.9460393,40.7832167
END:VEVENT
BEGIN:VEVENT
DTSTART;TZID=America/New_York:20260422T190000
DTEND;TZID=America/New_York:20260422T220000
DTSTAMP:20260422T022512
CREATED:20260420T164513Z
LAST-MODIFIED:20260420T164513Z
UID:10000252-1776884400-1776895200@climatejustice.nyc
SUMMARY:Field Trip: Broadway Play - Death of a Salesman
DESCRIPTION:
URL:https://climatejustice.nyc/calendar/field-trip-broadway-play-death-of-a-salesman/
LOCATION:High School for Climate Justice\, 320 E. 96th Street\, New York\, NY\, 10128\, United States
CATEGORIES:Field Trip,Special Event
ORGANIZER;CN="School Management":MAILTO:info@climatejustice.nyc
GEO:40.7832167;-73.9460393
X-APPLE-STRUCTURED-LOCATION;VALUE=URI;X-ADDRESS=High School for Climate Justice 320 E. 96th Street New York NY 10128 United States;X-APPLE-RADIUS=500;X-TITLE=320 E. 96th Street:geo:-73.9460393,40.7832167
END:VEVENT
END:VCALENDAR